BEGIN:VCALENDAR
METHOD:PUBLISH
VERSION:2.0
PRODID:-//Eventilla iCal Syndication//NONSGML Liana//EN
BEGIN:VEVENT
UID:ryz1O@eventilla.com
DTSTAMP:20250731T040000Z
DTSTART:20250731T040000Z
DTEND:20261215T215900Z
SUMMARY:Tekoälyassistentti asianajajan työn tukena
DESCRIPTION:Tekoäly ei ole vain tehokkuuden lisääjä – se voi toimia assistenttina\, joka tukee asianajajan työtä monin tavoin. Tässä koulutuksessa pureudumme tekoälyn rooliin asianajotyössä ja tarkastelemme\, miten sen monet ominaisuudet voivat tuottaa lisäarvoa muuhunkin kuin rutiinitehtäviin. Koulutuksessa käydään läpi käytännön esimerkkejä\, joissa tekoäly tukee oikeudellista analyysiä\, asiakirjojen laadintaa ja tiedonhaun optimointia. Lisäksi tarkastelemme tekoälyn mahdollisuuksia osittain automatisoiduissa prosesseissa sekä sen vaikutuksia työnkulkuun ja päätöksentekoon. Mukana kouluttamassa alan huippuasiantuntija Immo Salo\, joka tietää missä tekoälyassistentin käytön mahdollisuuksissa mennään juuri nyt ja mitkä ovat alan parhaimpia sovellutuksia sekä asianajaja Kimmo Oila\, jonka konkreettiset esimerkit asianajotoimiston käytännön arjesta antavat painavaa lisäarvoa jokaiselle osallistujalle.Tule oppimaan\, miten tekoäly voi toimia älykkäänä kumppanina – ei vain helpottaen työtäsi\, vaan myös laajentaen asiantuntijuuttasi.\n \nKoulutus maksetaan heti oston yhteydessä verkossa. Maksettuasi koulutuksen verkossa saat vahvistusviestissä ohjeet verkkokoulutukseen siirtymisestä. Mikäli et ole aiemmin hyödyntänyt verkkokoulutuksiamme\, luo järjestelmä sinulle uudet tunnukset ja saat siitä tiedon oston tai ilmoittautumisen yhteydessä käyttämääsi sähköpostiin. Tarkista myös roskaposti. Voit tarvittaessa uusia salasanasi Asianajaja-akatemian verkkokoulutusympäristöön sen kirjautumissivulla.\nKoulutus on hankittavissa 15.12.2026 mennessä ja materiaalit käytettävissä 31.12.2026 saakka. \nKoulutus perustuu 5.6.2025 toteutettuun koulutustilaisuuteen.\nHinta ja peruutusehdot\n250 euroa Kausikortilla kouluttaudut edullisesti koko vuoden ja kausikorttikoodilla saat koulutuksen maksutta. Kirjaa koodi ilmoittautumislomakkeen loppuun.\nTutustu kausikorttitarjontaan verkkosivuillamme.\nKoulutus on vain jäsenillemme sekä asianajotoimistojen ja Oikeuspalveluviraston henkilökunnalle. Verkkokoulutuksen peruutusehtojen mukaisesti koulutusta ei voi perua eikä maksua palauteta.\nKouluttautumisvelvoite\n3 tuntia \nAsianajajan tulee kirjata verkkokoulutuksesta kertyvät kouluttautumisvelvoitteen tunnit siihen ajankohtaan\, jolloin verkkokoulutus on käyty. Verkkokoulutuksen kouluttautumisvelvoite voidaan lukea kuitenkin vain sille vuodelle\, jona verkkokoulutus on ostettu tai jona maksuttomiin koulutuksiin on ilmoittauduttu.\nJärjestäjä\nSuomen Asianajajat\nSijainti\nVerkossa\nIlmoittautuminen\nViimeistään 15.12.2025\nTäytäthän kaikki tiedot huolellisesti. Mikäli et saa vahvistusviestiä\, ole yhteydessä sähköpostitse koulutus@asianajajat.fi.\nJäsentietojasi ei päivitetä ilmoittautuessa annettujen tietojen perusteella. Voit jäsenenä päivittää yhteystietosi suoraan Asiointipalvelu ASSIssa tai osoitteella jasenasiat@asianajajat.fi. Jos et ole jäsen ja ilmoittaudut ensimmäisen kerran tilaisuuteen\, lisätään tietosi Suomen Asianajajien asiakasrekisteriin.\nLisätietoja tietosuojasta \nTervetuloa oppimaan verkossa!
LOCATION:Verkossa
URL:http://ssl.eventilla.com/event/ryz1O
END:VEVENT
END:VCALENDAR
