BEGIN:VCALENDAR
METHOD:PUBLISH
VERSION:2.0
PRODID:-//Eventilla iCal Syndication//NONSGML Liana//EN
BEGIN:VEVENT
UID:v8Y4K@eventilla.com
DTSTAMP:20231101T060000Z
DTSTART:20231101T060000Z
DTEND:20231101T080000Z
SUMMARY:Yritysten aamukahvit Suomenniemi
DESCRIPTION:Mikkelin kehitysyhtiö Miksei\, Mikkelin kaupunki\, ProAgria ja Veej'jakaja lähtevät taas yhteiselle kierrokselle seututaajamiin tapaamaan yrittäjiä! Tule kanssamme aamukahville ja keskustelemaan ajankohtaisista asioista.
LOCATION:Temmin Tupa\, Kirkonkyläntie 18\, 52830\, Suomenniemi
URL:http://ssl.eventilla.com/event/v8Y4K
END:VEVENT
END:VCALENDAR
