BEGIN:VCALENDAR
METHOD:PUBLISH
VERSION:2.0
PRODID:-//Eventilla iCal Syndication//NONSGML Liana//EN
BEGIN:VEVENT
UID:vB8ZY@eventilla.com
DTSTAMP:20260604T060000Z
DTSTART:20260604T060000Z
DTEND:20260605T110000Z
SUMMARY:Talousjohdon kesäpäivät 2026
DESCRIPTION:Ammatillisen koulutuksen talousjohdon kesäpäivät järjestetään Helsingissä kesäkuun alussa. \nTilaisuuteen ovat tervetulleita ammatillisesta koulutuksesta ja sen rahoituksesta sekä taloudesta kiinnostuneet.\nLuvassa on ajankohtaista asiaa\, ajatusten ja näkemysten vaihtoa sekä iloisia kohtaamisia - tule mukaan talouden ja rahoituksen kiinnostavimpaan ja kivoimpaan tapahtumaan!\nAmmatillisen koulutuksen talouspäälliköt ry ja AMKE toteuttavat tapahtuman yhteistyössä.\n\n\n\n \n \n\n\n
LOCATION:Home Hotel Katajanokka\, Merikasarminkatu 1\, 00160\, Helsinki\,
 Suomi
URL:http://ssl.eventilla.com/event/vB8ZY
END:VEVENT
END:VCALENDAR
