BEGIN:VCALENDAR
METHOD:PUBLISH
VERSION:2.0
PRODID:-//Eventilla iCal Syndication//NONSGML Liana//EN
BEGIN:VEVENT
UID:vBBo0@eventilla.com
DTSTAMP:20260526T100000Z
DTSTART:20260526T100000Z
DTEND:20260526T130000Z
SUMMARY:DigiOptimi-yhteiskehittämistilaisuus: Digitaalisten työkalujen yhteiskehittäminen ICT-alan päästöjen laskentaan
DESCRIPTION:Miten ICT-alan päästöjä pitäisi oikeasti mitata ja millaiset työkalut siihen toimivat pk-yrityksissä?\nTule mukaan DigiOptimi-yhteiskehittämistilaisuuteen\, jossa rakennetaan yhdessä ratkaisuja digitaalisten palveluiden ja teknologioiden päästöjen ja energiankulutuksen arviointiin. Tämä ei ole pelkkä koulutus – vaan mahdollisuus vaikuttaa. Tilaisuus on maksuton\, mutta vaatii ennakkoilmoittautumisen.\n \nMiksi osallistua?\nTule oppimaan ICT-alan päästöjen mittaamisesta ja hallinnasta sekä verkostoitumaan muiden yritysten ja asiantuntijoiden kanssa. Samalla pääset vaikuttamaan DigiOptimi-hankkeen tuleviin piloteihin ja toimenpiteisiin. Osallistumalla pääset vaikuttamaan konkreettisesti päästölaskureiden kehitykseen ja tuomaan esiin omia tarpeitasi ja haasteitasi.\n \nKenelle tilaisuus on suunnattu?\nTilaisuus on suunnattu erityisesti pk-yrityksille\, ohjelmistoalan toimijoille sekä organisaatioille ja asiantuntijoille\, joita kiinnostavat digikehittäminen\, kestävyys ja datan hyödyntäminen.\n \nMitä tilaisuudessa tehdään?\nTilaisuudessa esitellään DigiOptimi-hankkeen tavoitteet ja eteneminen\, tunnistetaan osallistujien tarpeita ja kehityskohteita sekä työskennellään yhdessä käytännön haasteiden parissa. Samalla luodaan pohjaa tuleville piloteille ja työkaluille.\n \nKäsiteltävät teemat\nTilaisuudessa pureudutaan mm. seuraaviin aiheisiin:\n\nICT-alan päästöjen ja energiankulutuksen mittaaminen\nlaitteiden\, ohjelmistojen ja tekoälyn elinkaaripäästöt\ndatan saatavuuden ja hyödyntämisen haasteet\navoimien laskureiden vaatimukset (käytettävyys\, luotettavuus\, läpinäkyvyys)\nlaskureiden käytettävyys pk-yritysten arjessa\nkädenjälkivaikutusten huomioiminen\nosallistujien omat käyttötapaukset ja kehitysideat\n\n \nKesto ja toteutus\nTilaisuus kestää 3 tuntia ja toteutetaan hybridinä\, joten voit osallistua joko paikan päällä Syklin Pasilan toimipisteellä tai verkossa.\n \nTilaisuus on osa Digioptimi-hanketta.  DigiOptimi-hankkeessa kehitetään avoimet verkkopohjaiset laskurit tietoteknisten laitteiden\, ohjelmistojen ja tekoälyn päästöjen ja energiankulutuksen laskentaan. Hankkeessa pyritään huomioimaan myös mahdolliset kädenjälkivaikutukset. Lue lisää hankkeesta täältä. \n \n \n 
LOCATION:Suomen ympäristöopisto SYKLI, Pasilan toimipiste ja Teams\,
 Esterinportti 1, 3. krs.\, 00240\, Helsinki
URL:http://ssl.eventilla.com/digioptimi_yhteiskehittaminen
END:VEVENT
END:VCALENDAR
