BEGIN:VCALENDAR
METHOD:PUBLISH
VERSION:2.0
PRODID:-//Eventilla iCal Syndication//NONSGML Liana//EN
BEGIN:VEVENT
UID:vBNRg@eventilla.com
DTSTAMP:20260505T160000Z
DTSTART:20260505T160000Z
DTEND:20260505T200000Z
SUMMARY:TILA.NNE: Kim Alpert/Chris Corsano & Pauliina Mäkelä/Topias Tiheäsalo
DESCRIPTION:\nTiistaina 5.5. klo 19\nTila.nne:\nKaksi timanttista Duoa kohtaa Turussa.\nKim Alpert/Chris Corsano (US) & Pauliina Mäkelä/Topias Tiheäsalo (FIN)\nAinutlaatuinen ilta. Kahden mantereen audiovisuaalinen kohtaaminen. Jonna Tervomaan ja Darin Grayn Tila.nne on kutsunut Turkuun amerikkalaisen huippukaksikon\, Kim Alpertin ja Chris Corsanon\, jotka kohtaavat Tehdas Teatterin Jokistudiossa suomalaiset loisteliaat\, Pauliina Mäkelän ja Topias Tiheäsalon. Luvassa kahden työparin omat\, ohikiitävät ja spontaanisuutta syleilevät audiovisuaaliset setit.\nOvet: klo 18 Tehdas Teatterin lämpiöön\nKeikat: klo 19 alkaen Jokistudiolla\nLiput: 15€ / 18€ \n
LOCATION:TEHDAS TEATTERI, Jokistudio\, Kulttuuritehdas Manilla, Itäinen
 Rantakatu 64B 3B\, 20810\, Turku\, Suomi
URL:http://ssl.eventilla.com/tilanne
END:VEVENT
END:VCALENDAR
