BEGIN:VCALENDAR
METHOD:PUBLISH
VERSION:2.0
PRODID:-//Eventilla iCal Syndication//NONSGML Liana//EN
BEGIN:VEVENT
UID:vN4qo@eventilla.com
DTSTAMP:20260529T050000Z
DTSTART:20260529T050000Z
DTEND:20260529T120000Z
SUMMARY:Trukkikorttikoulutus - Webinaari
DESCRIPTION:Koulutuksen tavoitteena on parantaa trukilla ajamisen taitoja sekä antaa valmiuksia trukin turvallisempaan ja oikeaoppiseen käyttöön. Lainsäädäntö edellyttää\, että trukin kuljettajalla pitää olla työnantajan antama kirjallinen lupa käyttää trukkia. Työnantajan on ennen luvat antamista varmistettava\, että kuljettajalla on riittävät kyvyt ja taidot työvälineen turvalliseen käyttämiseen\nKoulutus soveltuu lain vaatimaksi trukinkuljettajan perehdytykseksi. Koulutuksen hyväksytysti suorittaneille myönnetään trukkikortti\, joka on voimassa viisi vuotta.\nTrukkikorttikoulutuksista on mahdollista saada kuljettajan jatkokoulutuksen ammattipätevyysmerkintä (vain 1 merkintä/vrk).\nKyseessä on etäkoulutus. Koulutus tapahtuu Microsoft Teams-sovelluksella. Voit osallistua koulutukseen selaimen kautta joko tietokoneella tai mobiililaitteella. Sovellusta ei tarvitse ladata koneelle tai mobiililaitteelle erikseen. Mikäli haluat ladata Teams-sovelluksen\, löydät sen omasta sovelluskaupasta. Tarkemmat ohjeet lähetetään vahvistusviestissä. 
LOCATION:Webinaari
URL:http://ssl.eventilla.com/event/vN4qo
END:VEVENT
END:VCALENDAR
