BEGIN:VCALENDAR
METHOD:PUBLISH
VERSION:2.0
PRODID:-//Eventilla iCal Syndication//NONSGML Liana//EN
BEGIN:VEVENT
UID:vN92K@eventilla.com
DTSTAMP:20260615T053000Z
DTSTART:20260615T053000Z
DTEND:20260617T130000Z
SUMMARY:Salorannan leiri 12-15 vuotiaille
DESCRIPTION:Monipuolinen päiväleiri 12-15-vuotiaille Salorannan leirikeskuksessa ma-ke 15.–17.6. Ohjelmassa erilaisia pelejä ja leikkejä\, uintia\, kalastusta\, kädentaitoja sekä hauskaa yhdessäoloa. Kuljetus Naantalin keskustasta klo 8.30 ja paluu klo 16.00 keskustaan. Leirin hinta 55 €.  \nLeirin järjestää liikunta- ja nuorisopalvelut. Leiri toteutetaan mikäli vähintään 20 osallistujaa. Tarkemmat tiedot varusteista\, leirin ohjelmasta ym. lähetetään sähköpostilla ilmoittautuneille ennen leirin alkua. Hinta 55 €\, sisältää kuljetukset\, lounaan\, välipalan\, ohjelman ja vakuutuksen.\nIlmoittautuminen on sitova\, maksu palautetaan vain sairastapauksissa.
LOCATION:Salorannan nuorisoleirialue\, Vehotniementie 99\, 21130\,
 Poikko\, Suomi
URL:http://ssl.eventilla.com/salorannanleirikesa26
END:VEVENT
END:VCALENDAR
