BEGIN:VCALENDAR
METHOD:PUBLISH
VERSION:2.0
PRODID:-//Eventilla iCal Syndication//NONSGML Liana//EN
BEGIN:VEVENT
UID:vN9Yd@eventilla.com
DTSTAMP:20260604T090000Z
DTSTART:20260604T090000Z
DTEND:20260604T110000Z
SUMMARY:SuperPark-retki
DESCRIPTION:Naantalin nuorisopalvelut järjestää kesäretken SuperParkiin torstaina 4.6.2026 10-17-vuotiaille. Toiminta-aika SuperParkissa klo 12-14\nRetken hinta 18 €\, hinta sisältää kuljetuksen ja sisäänpääsylipun.\nKuljetus lähtee Rymättylän linja-autotallilta klo 11:00\, Merimaskun Salen parkkipaikka 11.15 ja Naantalin keskustan pysäkki klo 11.30 Kuljetus saaristosta järjestetään mikäli osallistujia on riittävästi (lisätiedot nettisivulla).\nBussi lähtee takaisin SuperParkista klo 14.15 samaa reittiä.
LOCATION:SuperPark Turku\, Kongressikuja 1\, 20540\, Turku\, Suomi
URL:http://ssl.eventilla.com/event/vN9Yd
END:VEVENT
END:VCALENDAR
