BEGIN:VCALENDAR
METHOD:PUBLISH
VERSION:2.0
PRODID:-//Eventilla iCal Syndication//NONSGML Liana//EN
BEGIN:VEVENT
UID:w6kBD@eventilla.com
DTSTAMP:20260908T053000Z
DTSTART:20260908T053000Z
DTEND:20260908T130000Z
SUMMARY:Työsuojelun ja työturvallisuuden peruskurssi - Webinaari
DESCRIPTION:Kohderyhmä: Työsuojeluvaltuutetut\, -varavaltuutetut\, työsuojelupäälliköt\, työsuojeluasiamiehet\, esihenkilöt ja muu henkilöstö.\nKurssi soveltuu Työsuojelun valvontalain mukaiseksi koulutukseksi uudelle työsuojeluvaltuutetulle ja varavaltuutetulle. Koulutusta on hyvä täydentää työpaikan tarpeiden mukaisilla jatkokursseilla.\nKyseessä on etäkoulutus. Varmista ennen koulutusta\, että tietokoneessasi on toimiva kamera ja mikrofoni. Koulutukseen ei voi osallistua mobiililaitteella\, kuten älypuhelimella tai tabletilla.\nKoulutus tapahtuu Microsoft Teams-sovelluksessa. Sovellusta ei tarvitse ladata koneelle\, voit osallistua suoraan selaimessa. Saat tarkemmat ohjeet ilmoittautumisen yhteydessä.\nKoulutuksen suorittaneille lähetetään sähköinen todistus osallistumisesta.\nKurssin sisältö\nJohdatus työsuojeluun•    Työsuojelun tavoitteet ja merkitys•    Työsuojelun keskeinen sisältö•    Työterveyshuolto•    Työsuojelun valvonta\nTyötapaturmat•    Toiminta työtapaturmissa•    Nolla tapaturmaa -periaate\nTyösuojelun vastuut ja yhteistoiminta•    Työnantajan ja työntekijän vastuut•    Työsuojelun yhteistoiminta•    Työsuojeluhenkilöstön tehtävät ja oikeudet\nMitä työturvallisuuslaki edellyttää•    Työn vaarojen selvittäminen ja riskien arviointi•    Työsuojelun toimintaohjelma•    Opetus ja ohjaus•    Työnantajan yleinen huolehtimisvelvoite\nPelastussuunnitelma ja onnettomuuksiin varautuminen•    Pelastussuunnitelma•    Ihmisten käyttäytyminen onnettomuustilanteissa•    Tulipalot•    Hätäilmoituksen teko\nTyöpaikan turvallisuusvälineistöön tutustuminen•    Käsisammuttimet: jauhe-\, neste-\, vaahto-\, hiilidioksidisammutin•    Sammutuspeite•    Paloposti ja muut sammutusvälineet•    Työpaikan ensiapuvalmius
LOCATION:Webinaari\, Suomi
URL:http://ssl.eventilla.com/event/w6kBD
END:VEVENT
END:VCALENDAR
