BEGIN:VCALENDAR
METHOD:PUBLISH
VERSION:2.0
PRODID:-//Eventilla iCal Syndication//NONSGML Liana//EN
BEGIN:VEVENT
UID:wJb7R@eventilla.com
DTSTAMP:20221209T110000Z
DTSTART:20221209T110000Z
DTEND:20221209T120000Z
SUMMARY:Symtom av inomhusluft – Hur gå vidare?
DESCRIPTION:Beskrivning\nGratis webinar för professionella inom hälsovården där vi lär vi oss vad man bör ta i beaktande då man misstänker att inomhusluft kan vara orsaken till patientens symtom.\nKom med och lyssna på vad just du behöver veta om ämnet i ditt arbete.\nFöreläsare: Salla Fagerudd\, specialist i lungsjukdomar och allergologi\nMålgrupp\nLäkare\, skötare och andra specialister inom primärvård\, specialiserad sjukvård och företagshälsovård samt andra intresserade professionella inom hälso- och sjukvården.\nRegistrering\nAnmäl dig senast 8.12.2022 genom att trycka på Registering-knappen.\nVälkommen!\nMålet med Det nationella programmet för inomhusluft och hälsa 2018–2028 är att främja hälsa och välfärd genom att minska skadorna i anslutning till inomhusmiljön. Programmet koordineras av Institutet för hälsa och välfärd och i arbetet deltar aktivt Arbetshälsoinstitutet\, Filha rf\, Andningsförbundet\, Allergi-\, Hud- och Astmaförbundet samt Sisäilmayhdistys ry. Programmet genomför åtgärderna i regeringens program Sunda lokaler 2028 för främjande av hälsa och välfärd.\n 
LOCATION:Teams
URL:http://ssl.eventilla.com/event/wJb7R
END:VEVENT
END:VCALENDAR
