BEGIN:VCALENDAR
METHOD:PUBLISH
VERSION:2.0
PRODID:-//Eventilla iCal Syndication//NONSGML Liana//EN
BEGIN:VEVENT
UID:wkvrE@eventilla.com
DTSTAMP:20260608T070000Z
DTSTART:20260608T070000Z
DTEND:20260610T090000Z
SUMMARY:Sirkuskurssi
DESCRIPTION:Sirkuskurssi yli 7-vuotiaille ma-ke 8.–10.6. klo 10-12 Suopellon koululla. Kurssilla opetellaan pääasiassa akrobatian ja pyramidiakrobatian perusteita\, mutta tutustumme hieman myös mm. tasapainolajeihin ja jongleeraukseen. Lisäksi tuntiin kuuluu verryttelyleikkejä\, sekä voima- ja venyvyysharjoitteita. Kurssit sopivat niin vasta-alkajille\, kuin aiemmin sirkuksessa tai vastaavissa harrastuksissa olleille. Hinta 25 €. \nOhjaajana Pauliina Toivio. Kurssi toteutetaan mikäli vähintään 5 osallistujaa. \nIlmoittautuminen on sitova\, maksu palautetaan vain sairastapauksissa.
LOCATION:Suopellon koulu\, Rimpikuja 4\, 21110\, Naantali\, Suomi
URL:http://ssl.eventilla.com/sirkuskurssikesa26
END:VEVENT
END:VCALENDAR
