BEGIN:VCALENDAR
METHOD:PUBLISH
VERSION:2.0
PRODID:-//Eventilla iCal Syndication//NONSGML Liana//EN
BEGIN:VEVENT
UID:x2BrB@eventilla.com
DTSTAMP:20190122T061500Z
DTSTART:20190122T061500Z
DTEND:20190125T130500Z
SUMMARY:Messumatka\, Harrogate 22.-25.1.2019
DESCRIPTION:Bigga Turf Management Exhibition\, Harrogate 22.-25.1.2019\nFGMA järjestää jäsenistölleen tuetun messu- ja koulutusmatkan BTME- messuille\, Harrogateen 22.-25.1.2019. Voit tutustua tarkemmin messuille osoitteessa http://www.btme.org.uk/\nFGMA tukee matkaa taloudellisesti ja mukaan mahtuu 20 nopeinta jäsentä. Alla tiedot matkasta.\nLennot22.1 Helsinki-Manchester  08:15-09:1525.1 Manchester-Helsinki  10:15-15:05Majoitus Yorkshire*** hotellissa9 x kahden hengen huoneet\, erilliset sängyt2 x yhden hengen huoneetHinta: 409€/ hlö\, kahden hengen huoneessa sis.lennot\, majoituksen ja aamiaisen719 euroa/ hlö\, yhden hengen huoneessa sis.lennot\, majoituksen ja aamiaisen
LOCATION:Harrogate\, Englanti
URL:http://ssl.eventilla.com/event/x2BrB
END:VEVENT
END:VCALENDAR
