BEGIN:VCALENDAR
METHOD:PUBLISH
VERSION:2.0
PRODID:-//Eventilla iCal Syndication//NONSGML Liana//EN
BEGIN:VEVENT
UID:x2bYp@eventilla.com
DTSTAMP:20201107T100000Z
DTSTART:20201107T100000Z
DTEND:20201107T140000Z
SUMMARY:Hyvinvointitapahtuma
DESCRIPTION:HYVINVOINTITAPAHTUMA\nAikataulu:12-13 Fascia Method13-14 Sykelattarit14-15 Jooga15-16 Opettajien liikuntatunti Sporttipankkia hyödyntäen\n 
LOCATION:Hiukkavaaran monitoimitalo\, Tahtimarssi 3\, 90670\, Oulu
URL:http://ssl.eventilla.com/hyvinvointitapahtuma
END:VEVENT
END:VCALENDAR
