BEGIN:VCALENDAR
METHOD:PUBLISH
VERSION:2.0
PRODID:-//Eventilla iCal Syndication//NONSGML Liana//EN
BEGIN:VEVENT
UID:x3834@eventilla.com
DTSTAMP:20180907T050000Z
DTSTART:20180907T050000Z
DTEND:20180908T130000Z
SUMMARY:Tilanne päällä 2
DESCRIPTION:Tilanne päällä 2\n Nuorten yrittäjien johtamis- ja valmiusharjoitus.\n 
LOCATION:Reserviupseerikoulu\, Kadettikoulunkatu 6\, 49400\, Hamina\,
 Finland
URL:http://ssl.eventilla.com/event/x3834
END:VEVENT
END:VCALENDAR
