BEGIN:VCALENDAR
METHOD:PUBLISH
VERSION:2.0
PRODID:-//Eventilla iCal Syndication//NONSGML Liana//EN
BEGIN:VEVENT
UID:x3BJ6@eventilla.com
DTSTAMP:20181122T100000Z
DTSTART:20181122T100000Z
DTEND:20181124T110000Z
SUMMARY:SUOMI GOLFIN TOIMIALAPÄIVÄT 22.-24.11.2018
DESCRIPTION:\n \nSuomi Golfin toimialapäivät ja Suomen Golfliiton varsinainen syysliittokokous 22.-24.11.2018\nOhjelmaTorstai 22.11.201812.00 - 18.00 Seminaari19.00 - 21.00 Kulttuuria\, Seinäjoen kaupunginteatteri (omakustanteinen lisäohjelma)\nPerjantai 23.11.201809.00 - 17.00 Seminaari19.00 - 22.00 Illallinen\, Seinäjoen kaupunki (sis. seminaarimaksu)Lauantai 24.11.201809.00 - 10.00 Suomen Golfliiton alueiden kokoukset10.00 - 12.30 Suomen Golfliitto ry:n varsinainen syysliittokokous12.30 - 13.30 Lounas\nJuna-aikataulutToimialapäivien ohjelma on sunniteltu ottaen huomioon juna-aikataulut. Esim.Helsinki - Seinäjoki\, klo 7.14 - 10.16Jyväskylä - Seinäjoki\, klo 7.20 - 10.16Oulu - Seinäjoki\, klo 6.54 - 10.23\nMajoitus ja hinnatSokos Hotelli Lakeus\, puh. 010 7648 000email: lakeus.seinajoki@sok.fiSokos Hotelli Vaakuna\, puh. 010 7647 000email: vaakuna.seinajoki@sok.fi\n1hh/ 105 € sis. aamiainen2hh/ 123 € sis. aamiainen\nVarauskoodi: Golfin toimialapäivät\nTeatteriOmakustanteinen toimialapäivien lisäohjelmaAika: Torstai 22.11.2018\, klo 19.00Esitys: SarjahurmaajatPaikka: Seinäjoen kaupunginteatteriLiput: Osta liput tästäMustan komedian varsinainen helmi! Sellainen on tämä 50-luvun Lontooseen sijoittuva tarina vähemmän välkystä rikolliskoplasta.\n 
LOCATION:Seinäjoki Areena\, Kirkkokatu 23\, 60220\, Seinäjoki\, Suomi
URL:http://ssl.eventilla.com/event/x3BJ6
END:VEVENT
END:VCALENDAR
