BEGIN:VCALENDAR
METHOD:PUBLISH
VERSION:2.0
PRODID:-//Eventilla iCal Syndication//NONSGML Liana//EN
BEGIN:VEVENT
UID:x3og2@eventilla.com
DTSTAMP:20190604T151500Z
DTSTART:20190604T151500Z
DTEND:20190620T155500Z
SUMMARY:Vesiralli 1 (kesäkuun uimakoulu)
DESCRIPTION:Vesiralli 1 (kesäkuun uimakoulu)\nTavoite\nParantaa uimataitoa. Hauskuus. Uintiekniikoiden oppiminen. \nTaitovaatimus\nIkäsuositus: 7-vuotta. Tekniikka-uimakoulu käytynä. Vähintään 25 m sujuva uimataito. \nHarjoitteet\nEri uintilajien perustekniikat. Taitouintiliikkeitä. Vesipallon perusteet. Sukeltamista. Hyppyjä.\nOpetusallas: Iso allas (syvyys: 120cm - 230 cm)Ryhmäkoko: 16 lasta\nHuomioitavaa\nUimakouluun ilmoittautuminen takaa osallistumisoikeuden kurssille.\nUimakoulut pidetään viikoilla 23-25 ja seuraavina päivinä tiistaisin\, keskiviikkoisin ja torstaisin. \nSaat ilmoittautumisen yhteydessä sähköpostin vahvistuksena\, joka takaa että ilmoittautumisesi on tullut perille.
LOCATION:Zimmari\, Pekurintie 1\, 90450\, Kempele
URL:http://ssl.eventilla.com/kempy-vesiralli1-kesa1815
END:VEVENT
END:VCALENDAR
