BEGIN:VCALENDAR
METHOD:PUBLISH
VERSION:2.0
PRODID:-//Eventilla iCal Syndication//NONSGML Liana//EN
BEGIN:VEVENT
UID:x51wA@eventilla.com
DTSTAMP:20210810T140000Z
DTSTART:20210810T140000Z
DTEND:20210810T150000Z
SUMMARY:Palestine Cultural Week: Al Dabke for Palestinian Heritage
DESCRIPTION:The Palestinian folk dance dabke is considered one of the most important traditional art forms in Palestinian. Join us to learn more about the dabke of Palestine with Mohammad Salm. \nThe event will be conducted online via Microsoft Teams.\nDate: 10 August 2021 \nTime: 5:00 – 6:00 PM \nLanguage: Arabic \nTarget Audience: General public \nSeats are limited\, please click the button below to register.
LOCATION:Online via Microsoft Teams
URL:http://events.qnl.qa/event/x51wA
END:VEVENT
END:VCALENDAR
