BEGIN:VCALENDAR
METHOD:PUBLISH
VERSION:2.0
PRODID:-//Eventilla iCal Syndication//NONSGML Liana//EN
BEGIN:VEVENT
UID:x5G0G@eventilla.com
DTSTAMP:20181220T160000Z
DTSTART:20181220T160000Z
DTEND:20181220T200000Z
SUMMARY:XMAS MINGLE
DESCRIPTION:You're warmly welcome to our xmas mingle on Thursday 20th of December at our 8th floor office in Kamppi.\nXmas mingle is a great chance to spend some quality time with Goforeans\, get to know us and our office and take a break from your Christmas preparations.Pop in when most suitable for you! We have doors open the whole evening. \nXmas mingle is all about mulled wine\, yummy sweets\, great music and awesome people. In order to know how much food and drinks we should prepare for\, please sign up from the link below.\nSee you soon!
LOCATION:Gofore Kamppi\, Urho Kekkosen katu 7B, 8th floor\, 00100\,
 Helsinki
URL:http://ssl.eventilla.com/xmasmingle
END:VEVENT
END:VCALENDAR
