BEGIN:VCALENDAR
METHOD:PUBLISH
VERSION:2.0
PRODID:-//Eventilla iCal Syndication//NONSGML Liana//EN
BEGIN:VEVENT
UID:x5bK8@eventilla.com
DTSTAMP:20190314T120000Z
DTSTART:20190314T120000Z
DTEND:20190315T150000Z
SUMMARY:FGMA kevätkokous- ja seminaari 2019
DESCRIPTION:FGMA:n kevätkokous ja -seminaari 2019 järjestetään Helsingin Messukeskuksessa Golfmessuviikolla 14.-15.3. Ohjelmassa yhteisiä osioita sekä ammattiryhmittäistä koulutusta. Eikä pidä unohtaa verkostoitumista kollegoiden kanssa. Tervetuloa!\nIlmoittautumiset 12.3.2019 mennessä.\nLataa ohjelma tästä
LOCATION:Messukeskus\, Messuaukio 1\, 00520\, Helsinki
URL:http://ssl.eventilla.com/kevatseminaari2019
END:VEVENT
END:VCALENDAR
