BEGIN:VCALENDAR
METHOD:PUBLISH
VERSION:2.0
PRODID:-//Eventilla iCal Syndication//NONSGML Liana//EN
BEGIN:VEVENT
UID:xB2rg@eventilla.com
DTSTAMP:20200227T063000Z
DTSTART:20200227T063000Z
DTEND:20200227T190000Z
SUMMARY:FGMA kevätkokous- ja seminaari 27.2.2020
DESCRIPTION:ILMOITTAUTUMINEN ON PÄÄTTYNYT! MIKÄLI HALUAT VIELÄ MUKAAN\, OTA YHTEYTTÄ:\nantti.hiltunen@golf.fip.0400 355 434\nFGMA:n kevätkokous ja -seminaari 2020 järjestetään Helsingin Messukeskuksessa torstaina 27.2.2020. Saman viikon aikana ohjelmassa myös Golfmessut sekä Golfgaala. Seminaariohjelmassa on jälleen yhteinen osio\, ammattiryhmittäistä koulutusta sekä yhteistä virkistaytymistä. Eikä pidä unohtaa verkostoitumista kollegoiden kanssa. Tervetuloa!
LOCATION:Messukeskus\, Messuaukio 1\, 00520\, Helsinki
URL:http://ssl.eventilla.com/event/xB2rg
END:VEVENT
END:VCALENDAR
