BEGIN:VCALENDAR
METHOD:PUBLISH
VERSION:2.0
PRODID:-//Eventilla iCal Syndication//NONSGML Liana//EN
BEGIN:VEVENT
UID:xBb7g@eventilla.com
DTSTAMP:20201110T070000Z
DTSTART:20201110T070000Z
DTEND:20201110T084500Z
SUMMARY:Master Your GDPR
DESCRIPTION:Adtech + analytics + privacy\nIAB Finland yhdistää voimansa IAPP Knowledgenet Helsingin kanssa ja järjestävät yhdessä tietosuojawebinaarin.\nIAB:n ja IAPP Knowledgenetin webinaari pureutuu marraskuussa adtechiin\, analytiikkaan ja tietosuojaan. Puheenvuoroissa Sitra käsittelee yksityisyyttä\, Eversheds Sutherland adtechiä ja oikeuskäytäntöjä sekä Alma Media kolmannen osapuolen evästeitä ja tietosuojaa.\nKuulet webinaarissa myös tilannekatsauksen TCF 2.0:n liittyen. TCF (Transparency & Consent Framework) on toimialan yhdessä luoma standardi\, joka mahdollistaa datan hyödyntämiseen vaadittavan luvan kysymisen kuluttajilta ja tämän luvan välittämisen digitaalisen mainosmarkkinan toimijoille. Kaikkien digitaalisen mainonnan parissa työskentelevien tulee ymmärtää TCF:n merkitys ja erityisen tärkeää se on mainontaa ohjelmallisesti myyville ja ostaville tahoille.\nHuom! Jos olet IAPP:n jäsen ja haluat CPE-pisteitä\, ilmoittautuminen täytyy tehdä IAPP:n kautta. Älä kuitenkaan ilmoittaudu tuplana molempien kautta.\nLippuja on jaossa webinaariin rajattu määrä. Jos et pääse paikalle\, niin peruutathan osallistumisesi\, jolloin seuraava jonosta pääsee tilallesi. Webinaarista ei lähetetä tallennetta osallistujille.\nAGENDA\n09.00 Tervetuloa - IAPP & IAB Finland\n09.10 TCF 2.0 tilannekatsaus - Pasi Raassina\, IAB Finland\n09.25 Kun yksityisyys on kauppatavaraa - Tiina Härkönen ja Riitta Vänskä / Sitra\n09.55 Adtechiin vaikuttava viimeaikainen oikeuskäytäntö - Mari Rusi / Eversheds Sutherland\n10.20 Paraneeko tietosuoja kun kolmannen osapuolen eväste poistuu? - Johanna Vartiainen / Alma Media\n10.45 Tilaisuus päättyy\n \nYHTEISTYÖSSÄ\n\n \nPUHUJAT\n\n\n\n\n\n\n\nTiina Härkönen / Sitra\nJohtava asiantuntija\, IHAN- Ihmislähtöinen datatalous\n\n\n\n\n\n\n\nRiitta Vänskä / Sitra\nAsiantuntija\, IHAN- Ihmislähtöinen datatalous\n \n\n\n\n\n\n\n\nMari Rusi / Eversheds Sutherland\nSpecialist Counsel\n\n\n\n\n\n\n\nJohanna Vartiainen / Alma Media\nJohtaja\, digimainonnan palvelut ja kehitys\n \n\n\n\n\n 
LOCATION:Webinaari, lisätiedot tulee ilmoittautuneille lähempänä
 tapahtumaa
URL:http://ssl.eventilla.com/masteryourgdpr
END:VEVENT
END:VCALENDAR
