BEGIN:VCALENDAR
METHOD:PUBLISH
VERSION:2.0
PRODID:-//Eventilla iCal Syndication//NONSGML Liana//EN
BEGIN:VEVENT
UID:xBzEk@eventilla.com
DTSTAMP:20211123T070000Z
DTSTART:20211123T070000Z
DTEND:20211123T093000Z
SUMMARY:Eläinten hyvinvointilain luonnoksen esittely- ja kommentointitilaisuus
DESCRIPTION:Uuden eläinten hyvinvointilain valmistelu on edennyt lausuntovaiheeseen. Maa- ja metsätalousministeriö esittelee lakiluonnosta tiistaina 23. marraskuuta webinaarissa\, jonka ministeriö järjestää yhteistyössä eläinsuojeluasiamiehen ja Eläinten hyvinvointikeskuksen kanssa. Asiantuntijat ja järjestöt kommentoivat lakiluonnosta tilaisuudessa.\nTapahtumaan on ennakkoilmoittautuminen\, joka sulkeutuu 22. marraskuuta kello 12.00. Lähetämme ilmottautuneille kutsun Teams-tilaan tapahtumaa edeltävänä päivänä. Webinaari tallennetaan\, ja se on katsottavissa 14 vuorokauden ajan tilaisuuden jälkeen lakiuudistuksen nettisivuilla.\n \nTapahtuman ohjelma:\n9.00 Avaus ja ohjelman esittely. Apulaisosastopäällikkö Taina Aaltonen\, MMM\n9.05 Maa- ja metsätalousministeri Jari Lepän videotervehdys\n9.10 Erityisasiantuntija Tiina Pullola\, MMM: Lakiluonnoksen esittely\n9.45 Eläinten hyvinvointitutkimuksen näkökulma. Professori Anna Valros\, Helsingin Yliopisto\n10.00 TAUKO 10 min\n10.10 Eläinetiikan näkökulma. Tutkija\, dosentti Elisa Aaltola\, Turun yliopisto\n10.25 Eläinten hyvinvoinnin valvonnan näkökulma. Valvontaeläinlääkäri Maria Wahlfors\n10.40 Järjestöjen kommenttipuheenvuorot (kukin 5 min): MTK ja SLC\, Kennelliitto ja Kissaliitto\, Animalia ja SEY\, Kalastusjärjestöt\n11.00 Eläinsuojeluasiamiehen näkemyksiä lakiluonnoksesta. Eläinsuojeluasiamies Saara Kupsala\n \nLisätietoja:\nErityisasiantuntija Tiina Pullola\, tiina.pullola@gov.fi\, +358 295162108
LOCATION:Verkkoseminaari
URL:http://ssl.eventilla.com/elainten_hyvinvointilaki
END:VEVENT
END:VCALENDAR
