BEGIN:VCALENDAR
METHOD:PUBLISH
VERSION:2.0
PRODID:-//Eventilla iCal Syndication//NONSGML Liana//EN
BEGIN:VEVENT
UID:xDprD@eventilla.com
DTSTAMP:20150415T050000Z
DTSTART:20150415T050000Z
DTEND:20150415T073000Z
SUMMARY:Toimiva palautekulttuuri - PERUTTU
DESCRIPTION:Tervetuloa Agenssin huhtikuun aamiaiselle! Millainen on hyvä ja toimiva palautekulttuuri? Mikä merkitys toimivalla palautekulttuurilla on organisaation toiminnalle? Entäpä mikä on palautteen merkitys antajalleen ja saajalleen? Mikä on hyvä määrä palautetta? Miten palautekulttuurin tilaa organisaatiossa voi arvioida ja kehittää? Tule mukaan pohtimaan\, jakamaan ja kuulemaan vastauksia näihin ja muihin palautteeseen liittyviin kysymyksiin aamiaisellemme huhtikuussa! Tilaisuus alkaa aamukahvilla klo 08.00. Varsinainen ohjelma käynnistyy klo 8.30 päättyen viimeistään 10.30. Tilaisuuden vetäjänä toimii Agenssin toimitusjohtaja Irma Hyvönen ja emäntänä kehittämiskonsultti Ilse Manner.\nMikäli sinulla on kysyttävää tai kaipaat lisätietoja tapahtumasta\, ota yhteyttä Ilseen: ilse.manner@agenssi.fi tai 045 12 732 12.
LOCATION:Agenssin toimisto\, Pohjoinen rautatiekatu 15 B 12\, 00100\,
 Helsinki
URL:http://ssl.eventilla.com/eventilla_toimivapalautekulttuuri
END:VEVENT
END:VCALENDAR
