BEGIN:VCALENDAR
METHOD:PUBLISH
VERSION:2.0
PRODID:-//Eventilla iCal Syndication//NONSGML Liana//EN
BEGIN:VEVENT
UID:xGELz@eventilla.com
DTSTAMP:20151001T110000Z
DTSTART:20151001T110000Z
DTEND:20151001T170000Z
SUMMARY:ETI - Enter The Internationalization
DESCRIPTION:ETI ittes!Kolme suurta yhdistyy\, kun 1.10 Oulun kauppakorkeakoulu\, Oulun Ekonomit sekä Finanssi ry järjestävät seminaarin\, jossa opiskelijat sekä ekonomit kytkeytyvät kansainvälisen yrittäjyyden ympärille.Tapahtumassa osallistujat pääsevät kuuntelemaan tämän hetken tilannetta kansainvälistymisestä\, keskustelemaan yritysten aiheista sekä verkoistoitumaan Areenan loistavassa ilmapiirissä.Puhujat:Pertti HuuskonenDI\, MKT\, eMBATeollisuusneuvos\, hallitusammattilainen\, yrittäjäYli 35 vuoden strateginen ja operatiivinen liikkeenjohdon kokemus erityisesti nopean kasvun yrityksistä ja kansainvälisistä konserneista. Erityisosaamista public-private organisaatioista\, pörssiyhtiöistä ja -listautumisista\, kasvun rahoituksesta\, yritysostoista ja integraatioista\, kiinteistösijoittamisesta\, kaupunkien kehitysohjelmista\, yrittäjyydestä ja kansainvälisistä organisaatioista.\nGugguu: Anne Valli & Miia Riekki\nAnne Valli on yksi Gugguu Oy:n kolmesta omistajasta ja hallituksen puheenjohtaja. Anne on 30-vuotias Hallintotieteiden maisteri sekä kolmen lapsen äiti. Annen päävastuuna yrityksessä on kansainvälistyminen sekä operatiivinen myynnin ja verkkokaupan pyörittäminen.\nMiia Riekki on Gugguu Oy:n perustaja ja yksi kolmesta omistajasta sekä yrityksen toimitusjohtaja. Miia on 31-vuotias kolmen lapsen äiti ja kauppatieteiden opiskelija. Päävastuuna yrityksessä Miialla on tuotanto\, tuotekehitys ja markkinointi.\nXiting ZhangMBA\, University of OuluMs Zhang is one of the first MBA graduates from Oulu Business School in 2010. She has 12 years of experience in supporting Finnish and Chinese companies to successfully meet each others market requirements. At Rovio she was part of the core team to build the brand and business in China successfully. She has experience in business strategy and planning\, Chinese management\, brand licensing game distribution and marketing campaigns etc. She also has her own startup China Business Ambassador Oy cbafinland.com.Ohjelma:14.00 Doors open14.15 Coffee14.45 Welcome – Finanssi ry & Nordea15.00 Internationalization - Pertti Huuskonen15.15 Gugguu15.30 Case Gugguu16.00 Break16.30 Rovio / Kiosked – Xiting Zhang16.45 Case Rovio / Kiosked17.15 Winners Pitch17.45 Summary of the day & SupperIlmoittautuminen alkaa tiistaina 15.9 klo 9.00 ja se tapahtuu Eventillan sivuilla seuraavasta linkistä:https://ssl.eventilla.com/event/xGELzPaikkoja on rajoitetusti\, joten ilmoittaudu HETI!Osallistumismaksu 5€\, joka sisältää:Mahdollistavan ympäristönLoistavat puhujatVerkostoitumistaIllallinenKahviMITÄ: ETI (Enter The InternationalizationMISSÄ: Areena Oulu\, Tyrnäväntie 16\, 901400 OuluMILLOIN: Torstaina 1.10 klo 14-20KENELLE: Oulun Ekonomeille\, Oulun Kauppakorkeakoulun toisen tai vanhemman vuosikurssin opiskelijoille sekä kauppakorkeakoulun henkilökunnallePUKUKOODI: Smart CasualHINTA: 5€KIELI: Suomi & EnglantiILMOITTAUTUMINEN: 15.9.2015 klo 9.00 - 22.9.2015 klo 23.59 https://ssl.eventilla.com/event/xGELz
LOCATION:Areena Oulu\, Tyrnäväntie 16\, 90400\, Oulu\, Finland
URL:http://ssl.eventilla.com/event/xGELz
END:VEVENT
END:VCALENDAR
