BEGIN:VCALENDAR
METHOD:PUBLISH
VERSION:2.0
PRODID:-//Eventilla iCal Syndication//NONSGML Liana//EN
BEGIN:VEVENT
UID:xGqJk@eventilla.com
DTSTAMP:20210601T210000Z
DTSTART:20210601T210000Z
DTEND:20210814T210000Z
SUMMARY:Kesä21: Sisujengi
DESCRIPTION:SISUJENGI\nHUOM! ILMOITTAUTUMINEN KESÄN RYHMIIN ON EDELLEEN MAHDOLLISTA SUORAAN SÄHKÖPOSTILLA. Ota yhteys salli.heinikainen@lum.fi\nKesäkausi: vko 22- 32Kausimaksu: 90€ + 2\,5€ palveluverkkomaksuIkä: Ei ikärajausta. Voit tiedustella ryhmän sopivuutta Nuorisopäällikkö Salli HeinikaiseltaToimintapaikka: Kimpinen keskiviikkoisin klo 18.30-19.30\nSisujengi on tarkoitettu erityistukea tarvitseville lapsille vammasta tai rajoitteesta riippumatta. Ryhmässä harjoitellaan perusliikkumisen taitoja yleisurheilua ja hauskanpitoa unohtamatta. Mukaan voi liittyä esimerkiksi avustajan kanssa.\nSisujengiin ei ole olemassa varsinaista ikärajaa\, mutta olemme pyrkineet sijoittamaan nuorimmat osallistujat urheilukouluihin ja liikkariryhmiin. Olemme hyvin joustavia ja muutoksia on mahdollista tehdä myös kesken kauden.\nRyhmässä kokeillaan erilaisia yleisurheilulajeja\, pelejä ja kisailuja. Tule kokeilemaan!\nTutustuthan ennen ilmoittautumisten alkua  tietosuojaselosteeseen ja kuvauslupaan.\nILMOITTAUTUMISOHJEET\n\nIlmoittautumisen auettua valitse sivun alta haluamasi ryhmä. \nTäytä lomake huolellisesti. Seura hankkii alle 14-vuotiaille (2008 ja tätä nuoremmat) yleisurheilulisenssin luovutettujen tietojen perusteella. 2007 syntyneet ja tätä vanhemmat ovat itse vastuussa vakuutuksista.\nPainettuasi "Jatka" -painiketta siirryt maksutavan valintaan. Voit valita maksutavaksi myös laskun\, joka laskutetaan kesäkuussa.\nIlmoittautumisen jälkeen saat vahvistusviestin ilmoittamaasi sähköpostiosoitteeseen (muista tarkistaa myös roskaposti). Ryhmän aloitusinfo lähetetään koteihin ennen toiminnan alkua.\n\nHuom!\nIlmoittautumisen perumisesta laskutetaan 20 euron peruutusmaksu\, joka koostuu toimistokuluista ja lisenssistä. Peruutus on mahdollista tehdä vielä ensimmäisen harjoituskerran jälkeen\, jonka jälkeen tehdyistä peruutuksista veloitetaan täysi maksu.\nMaksuun on lisätty palveluverkkomaksu 2\,5€\, joka menee palvelun tuottaja Eventilla Oy:lle\nHuomioithan\, että ryhmien toteutuminen vaatii tietyn täyttöasteen. Jos vaadittu osallistujamäärä ei toteudu\, ryhmiä voidaan yhdistää tai osallistujat ohjataan toiveiden mukaan muihin ryhmiin.
LOCATION:Kimpisen urheilukeskus\, Urheilukatu\, 53100\, Lappeenranta
URL:http://ssl.eventilla.com/sisujengikesa21
END:VEVENT
END:VCALENDAR
