BEGIN:VCALENDAR
METHOD:PUBLISH
VERSION:2.0
PRODID:-//Eventilla iCal Syndication//NONSGML Liana//EN
BEGIN:VEVENT
UID:xLQl1@eventilla.com
DTSTAMP:20211030T210000Z
DTSTART:20211030T210000Z
DTEND:20220108T220000Z
SUMMARY:Vesiralli 4 (sunnuntai-ryhmä)
DESCRIPTION:Vesiralli 4 (sunnuntai-ryhmä)\nTavoite\nParantaa uimataitoa. Hauskuus. Uintiekniikoiden oppiminen. Uintitesti 8. kerralla. \nTaitovaatimus\nIkäsuositus: 8-vuotta. Tekniikka-uimakoulu käytynä. Vähintään 25 m sujuva uimataito. \nHarjoitteet\nEri uintilajien perustekniikat. Taitouintiliikkeitä. Vesipallon perusteet. Sukeltamista. Hyppyjä.\nOpetusallas: Iso allas (syvyys: 120cm - 230cm)Ryhmäkoko: 9 - 16 lasta\nHuomioitavaa\nSuuren kysynnän vuoksi ilmoittautuminen tapahtuu ensin jonotuslistalle\, jonka jälkeen pyrimme järjestämään ryhmät kaikille osallistujille parhaimmalla tavalla.\nJonotuslistalle ilmoittautuminen ei vielä takaa osallistumisoikeutta kurssille.\nSaat ilmoittautumisen yhteydessä sähköpostin vahvistuksena\, joka takaa että ilmoittautumisesi on tullut perille.\nIlmoitamme kaikille kursseille valituille maksuohjeet myöhemmin erillisellä sähköpostiviestillä.
LOCATION:Zimmari\, Pekurintie 1\, 90450\, Kempele
URL:http://ssl.eventilla.com/kempy-vesiralli4-su38
END:VEVENT
END:VCALENDAR
