BEGIN:VCALENDAR
METHOD:PUBLISH
VERSION:2.0
PRODID:-//Eventilla iCal Syndication//NONSGML Liana//EN
BEGIN:VEVENT
UID:xO37l@eventilla.com
DTSTAMP:20210305T070000Z
DTSTART:20210305T070000Z
DTEND:20210305T080000Z
SUMMARY:Webinaari: ”CIA-ammattitutkinto” -tietoisku
DESCRIPTION:Tietosuoja-asetuksen mukainen tietosuoja / rekisteriseloste
LOCATION:Webinaari\, Finland
URL:http://ssl.eventilla.com/cia-ammattitutkinto-tietoisku
END:VEVENT
END:VCALENDAR
