BEGIN:VCALENDAR
METHOD:PUBLISH
VERSION:2.0
PRODID:-//Eventilla iCal Syndication//NONSGML Liana//EN
BEGIN:VEVENT
UID:xO4Yr@eventilla.com
DTSTAMP:20180810T063000Z
DTSTART:20180810T063000Z
DTEND:20180810T093000Z
SUMMARY:Kilpagolf Seuroissa
DESCRIPTION:TULE VIERUMÄELLE 10. ELOKUUTA SEURAAMAAN CHALLENGE TOUR -KISAA JA IDEOIMAAN KILPAGOLFIN KEHITTÄMISESTÄ\nGolfliiton hallinnoiman kilpaurheilutoiminnan rakenteet ja toiminnan painopistealueet ovat tarkistuksen alla. Tavoitteena on löytää Suomi-Golfin strategiaa tukevia toimintamalleja\, jotka johtavat hyvään ja jatkuvaan menestykseen kilpakentillä.\nKilpagolffareiden uran varrella seurojen ja golfyhteisöjen tuki on oleellista ja tärkeää.\nHaluamme nyt kehittää tukimuotoja ja toimintaa niin\, että se rohkaisee golfyhteisöjä jatkamaan ja tekemään menestyksekästä työtä kilpagolfin eri osa-alueilla.\nHaluaisimme nyt kuulla toiminnan keskeisissä rooleissa olevilta vaikuttajilta mielipiteitä ja ehdotuksia siitä\, miten liitto voisi parhaiten tukea golfyhteisöjen panostuksia kilpagolfiin.\nKutsumme toimitus- ja toiminnanjohtajat yhteiseen KILPAGOLF SEUROISSA -keskustelutilaisuuteen Vierumäellä 10. elokuuta alk klo 9:30.\nEsitämme omat ajatuksemme kehityskohteista\, keskustelemme ja kuuntelemme ehdotuksia. Nyt on mahdollisuus vaikuttaa!!\nYhteisen lounaan jälkeen on hieno mahdollisuus seurata huippugolfia ja suomalaisten pelureiden otteita Vierumäki Finnish Challenge -kisassa.\nVaraa aika kalenteriisi ja ilmoittaudu mukaan!\nKilpagolfterveisin\,\nJuha Juvonen\, SGL kilpaurheilupäällikkö\nAntti Hiltunen\, FGMA toiminnanjohtaja
LOCATION:Vierumäki
URL:http://ssl.eventilla.com/event/xO4Yr
END:VEVENT
END:VCALENDAR
