BEGIN:VCALENDAR
METHOD:PUBLISH
VERSION:2.0
PRODID:-//Eventilla iCal Syndication//NONSGML Liana//EN
BEGIN:VEVENT
UID:xOe8Y@eventilla.com
DTSTAMP:20200904T050000Z
DTSTART:20200904T050000Z
DTEND:20200904T150000Z
SUMMARY:FGMA:n syysrieha ja mestaruuskisa 4.9.2020 Nordcenter Golf
DESCRIPTION:FGMA:n syysrieha ja mestaruuskisa 4.9.2020\, Nordcenter Golf\nPerjantai 4.9.202008.00 - 09.00 Aamiainen klubilla9.00 - 9.30 Syysriehan avaus ja peliohjeet9.30 - 10.00 FGMA:n mestaruuskisa yhteislähtönä Fream- kentällä (kierrokselle mukaan eväspussi)14.30 -15.30 saunomista ja virkistäytymistä15.30 - 17.00 Grillibuffa terassilla\, juotavaa ja elävää musiikkia17.00 - 17.30 FGMA:n jäsenet haastattelussa! Omakohtaisia kokemuksia ja elämyksiä kaudesta 2020 jäsenten itse kertomana.17.30 - 18.00 Palkintojenjako ja syysriehan päätös\nMajoitus Billnäsin Ruukissa:Majoitus kahden hengen huoneissa 120e/huone to - pe 3.-4.9.2020\nhttps://billnas.fi/majoitus/\nHuone varaukset ilmoittautumisen yhteydessä. Ilmoita myös huonekaveri samalla.
LOCATION:Nordcenter Golf\, Kartanontie 4\, 10410\, Åminnefors\, Suomi
URL:http://ssl.eventilla.com/event/xOe8Y
END:VEVENT
END:VCALENDAR
