BEGIN:VCALENDAR
METHOD:PUBLISH
VERSION:2.0
PRODID:-//Eventilla iCal Syndication//NONSGML Liana//EN
BEGIN:VEVENT
UID:xYevM@eventilla.com
DTSTAMP:20180907T050000Z
DTSTART:20180907T050000Z
DTEND:20180907T130000Z
SUMMARY:FGMA mestaruuskilpailu
DESCRIPTION:FGMA:n mestaruuskilpailu pe 7.9.2018\nFGMA:n mestaruudesta pelataan Nurmijärven Golfklubilla 7.9.2018. Kilpailuun ovat tervetulleita kaikki FGMA:n jäsenet sekä yhteistyökumppanit.\nAikataulu:8.00 ilmoittautuminen8.45 kilpailuinfo klubilla9.30 yhteislähtö (B+C)14.00 päivällinen ja palkintojen jako\nSarjat ja pelimuodot:\n\nFGMA:n mestaruus\, SCR\, kaikki jäsenet\nToimitusjohtajat\, SCR\, vain toimitus- ja toiminnanjohtajat\nKenttämestarit\, SCR\, vain kenttämestarit\nPalvelupäälliköt SCR\, vain palvelupäälliköt\nAvoin pistebogey- sarja\, kaikki jäsenet\nYhteistyökumppanit\, PB\, vain yhteistyökumppanit\n\nKilpailumaksu:\nKilpailumaksu on 20€ sisältäen kilpailun ja lounaan. Kilpailumaksu on maksettava ilmoittautumisen yhtyedessä.\nLisätietoja ja kilpailunjohto:\nAntti Hiltunen\, 0400 355 434\, antti.hiltunen@golf.fi
LOCATION:Nurmijärven Golfklubi\, Ratasillantie 70\, 05100\, Röykkä\,
 Suomi
URL:http://ssl.eventilla.com/event/xYevM
END:VEVENT
END:VCALENDAR
