BEGIN:VCALENDAR
METHOD:PUBLISH
VERSION:2.0
PRODID:-//Eventilla iCal Syndication//NONSGML Liana//EN
BEGIN:VEVENT
UID:xYzL2@eventilla.com
DTSTAMP:20200313T070000Z
DTSTART:20200313T070000Z
DTEND:20200313T150000Z
SUMMARY:Hevosten immunologia ja ihosairaudet
DESCRIPTION:Koulutuspäivän aikana kerrataan immunologian perusteita\, käsitellään elimistön puolustusvastetta hevosen näkökulmasta ja pohditaan hevosten immunologisia erityispiirteitä sekä rokottamista. Iltapäivän puolella keskitytään kutisevaan hevoseen ja koko ihon urtikariaan - entä mikä on ns. paksujalka-syndrooma? Erilaisten ihopattien ja -massojen pähkäilyä helpottaa päivitys hevosten ihokasvaimista ja niiden oikeaoppisesta hoidosta.\nHUOMAA: Ilmoittautuessasi myös Hevosten aineenvaihdunnalliset sairaudet (14.3.) -koulutustilaisuuteen on päiväkohtainen hinta edullisempi! *
LOCATION:Sokos Hotel Vaakuna Hämeenlinna\, Possentie 7\, 13200\,
 Hämeenlinna\, Suomi
URL:http://ssl.eventilla.com/hevoset1332020
END:VEVENT
END:VCALENDAR
