BEGIN:VCALENDAR
METHOD:PUBLISH
VERSION:2.0
PRODID:-//Eventilla iCal Syndication//NONSGML Liana//EN
BEGIN:VEVENT
UID:xaZ07@eventilla.com
DTSTAMP:20210812T080000Z
DTSTART:20210812T080000Z
DTEND:20210812T090000Z
SUMMARY:Palestine Cultural Week: Palestinian Embroidery
DESCRIPTION:Palestinian embroidery is folklore inherited through generations\, a fine art that distinguishes Palestinian women. The decorations on the dress constitute an important indicator to know the identity of the village or region to which it belongs. Join us to learn about this beautiful inherited art with Feda Allouh. Grab your yarn and needles\, and let’s chat! The Library will provide embroidery tools for a limited number of registered users to be picked up from our building on an announced date that will be sent to the registered participatns.\nThe event will be conducted online via Microsoft Teams.\nDate: 12 August 2021 \nTime: 11:00 AM – 12:00 PM \nLanguage: Arabic \nTarget Audience: General public \nSeats are limited\, please click the button below to register.
LOCATION:Online via Microsoft Teams
URL:http://events.qnl.qa/event/xaZ07
END:VEVENT
END:VCALENDAR
