BEGIN:VCALENDAR
METHOD:PUBLISH
VERSION:2.0
PRODID:-//Eventilla iCal Syndication//NONSGML Liana//EN
BEGIN:VEVENT
UID:xaeVa@eventilla.com
DTSTAMP:20180116T070000Z
DTSTART:20180116T070000Z
DTEND:20180116T143000Z
SUMMARY:Make With the Six Cities - 6Aika avoimet innovaatioalustat
DESCRIPTION:Tervetuloa!\nPääkaupunkiseudun Make With the Six Cities - 6Aika avoimet innovaatioalustat tilaisuus järjestetään 16. Tammikuuta 2018 Otaniemen Dipolissa.\nTule mukaan osallistumaan mielenkiintoiseen ohjelmaan sekä luomaan uusia menestystarinoita parhaista raaka-aineista ja törmäämään erilaisiin verkostoihin. Kutsumme mukaan kaikki\, jotka haluavat kehittää uusia asioita ja saada aikaan tekoja!\nTutustu ohjelmaan\, jaa kutsua verkostoillesi ja ilmoittaudu tilaisuuteen sivun alalaidasta.\n-------------------------------- \nAlustava aikataulu:\n9 – 10 Ilmoittautuminen ja aamupala\n10 – 10:15 Kaupunkien tervehdys ja Maarit Poussan avaussanat\n10:15 – 11 Keynote-puheenvuoro\n                   Digitaalinen alustatalous - Uusi normaali\n                   Jukka Viitanen\, Toimitusjohtaja\, Resolute HQ\n11 – 12   PUHEENVUORO\nYhteiskehittäminen ja elävät laboratoriot 6Aika kaupungeissa\nSeppo Leminen\, Yliopettaja\, Laurea-ammattikorkeakoulu\nKYKY Koulujen ja yritysten kiihdytetty yhteiskehittäminen -  Mitä on koulujen ja yritysten yhteinen oppiminen?\nMinna Kukkonen\, KYKY vastuuhenkilö\, Espoon kaupunki\nFiksu Kalasatama innovaatioalustana - case Joustotilat Kalasatamasta 6Aika kaupunkeihin\nVeera Mustonen\, Forum Virium Helsinki\n \nTYÖPAJAT\nShowroom-työpaja\nTulevaisuuden innovaatio showroom: Tule ideapajaan miettimään tulevaisuuden esittelytilaa suomalaisille innovaatioille ja tuotteille! Ideoidaan vierailupolkuja\, innovaatioiden yhdistäviä teemoja  ja visioidaan paikka jossa suomalainen huippuosaaminen tuodaan esille\nHeli Hiden\, Espoon kaupunki\n12 – 13  Espoon kaupunki tarjoaa buffetlounaan\n13 – 14  PUHEENVUORO\nSuomen yritysmyönteisin kampus - huippuunsa viritettyä yhteistyötä alueen pk-yritysten kanssa\nRiikka Kuusisto\, Project Manager\, Metropolia amk\nPetikko-Varisto - vaisuhkosta viriiliksi kaupan alueeksi yritysten yhteisellä markkinoinnilla\nSari Olsio\, Marketing Advisor\, Evida Oy\nMiten kehitetään vetovoimainen keskusta? case Tikkurila\nKatja Seppänen\, Toiminnanjohtaja\, Elävä Tikkurila ry\nTYÖPAJAT\nKYKY-työpaja\nIdeoidaan kehittämisaihioita yhteiseen\, tulokselliseen oppimiseen kaikkien hyödyksi.\nMinna Kukkonen\, Espoon kaupunki\nKuntakanvas-työpaja\nMiten hyödynnät käytännössä liiketoiminnan kuvauksen työkalua.\nPiia Wollsten\, Espoon kaupunki\n14 – 15  PUHEENVUORO\nStart North - esittelypuheenvuoro\nJari Handelberg\, Start North\nEkosysteemien innovaatiojohtaminen kaupunkien toimintaympäristöissä\nEsko Kilpi\, Managing director at Esko Kilpi Company and executive advisor\nTYÖPAJAT\nKalasatama Wellbeing - työpaja\nKaupungin sosiaali- ja terveystoimiala on edistänyt kokeilualustatoimintaa Kalasatamassa 2014 alkaen. Terveys-ja hyvinvointikeskus avaa ovensa helmikuussa 2018\, mutta yhdessä yritysten\, kolmannen sektorin ja asukkaiden kanssa on jo kokeiltu ja yhteiskehitetty uudenlaisia hyvinvointiin liittyviä ratkaisuja. Kerromme myös ajankohtaisesta Kalasatama Wellbeing -kokeiluhausta  www.kalasatamawellbeing.fi\nKaisa Spilling\, Forum Virium ja Sanna Hartman\, Helsingin kaupunki\nEläköön kivijalka! -työpaja\nWorkshopissa rakennetaan visiota elinvoimaisesta kivijalkakaupasta kaupunkikeskustassa ja kehitetään työkalupakkia sen saavuttamiseksi\nKatja Seppänen\, Toiminnanjohtaja\, Elävä Tikkurila ry \n15:15 – 15:45 Päivän yhteenveto\n15:45 – 16:30 6Aika Cocktails\n--------------------------------\n \nOdotamme innolla näkevämme sinut 16.1 Dipolissa!\nYstävällisin terveisin\,\n6Aika AIA Espoo\, Helsinki ja Vantaa\nwww.6aika.fi
LOCATION:Dipoli\, Otakaari 24\, 02150\, Espoo\, Finland
URL:http://ssl.eventilla.com/6aika
END:VEVENT
END:VCALENDAR
