BEGIN:VCALENDAR
METHOD:PUBLISH
VERSION:2.0
PRODID:-//Eventilla iCal Syndication//NONSGML Liana//EN
BEGIN:VEVENT
UID:xakgG@eventilla.com
DTSTAMP:20211119T080000Z
DTSTART:20211119T080000Z
DTEND:20211119T090000Z
SUMMARY:TieraCafé webinaari 19.11. klo 10-11: Tiera Vire ja palvelun hyödyntäminen hyvinvointiohjelmassa - SOSTERIN kokemukset
DESCRIPTION:Tervetuloa Tiera Vire-webinaariin!\nTeknologian Tiera Vire hyödyntäminen hyvinvointiohjelmassa ja Itä-Savon sairaanhoitopiiri SOSTERIN kokemukset 14 työyhteisöstä ovat perjantain 19.11. klo 10-11 webinaarimme aiheena.\nTervetuloa kuuntelemaan\, kuinka työyhteisöissä on mahdollista saavuttaa vaikuttavia tuloksia hyvinvointiohjelman ja Tiera Vire -sovelluksen avulla!\nWebinaarissa esittelemme myös kuinka HYTE-liiga voi tukea työyhteisöjen hyvinvointiohjelmia. Tieran asiakasomistajat ovat osoittaneet kiinnostusta toistensa leikkimieliseen haastamiseen alustalla. Voit tutustua linkin videon kautta yhden työyhteisön tarinaan reilun vuoden takaa. Videoon >>\nVierailevana puhujana kokemuksista on kertomassa projektipäällikkö Juuso Kautonen\, Itä-Savon sairaanhoitopiirin kuntayhtymä\n \nWebinaarin ohjelma:\nKlo 10.00 Webinaarin avaus\nKlo 10.05 SOSTERIN kokemukset teknologiasta\, 14 eri                työyhteisössä toteutetun hyvinvointiohjelman jälkeen \nKlo 10:35 Alustan tärkeimmät toiminnallisuudet työhyvinvoinnin               edistämisessä ja HYTE-liigan lanseeraus\nKlo 10:55 Aikaa kysymyksille\n \nWebinaari järjestetään Teams-kokouksena ja osallistumislinkki lähetetään ilmoittautuneille päivää ennen tilaisuutta sähköpostilla. Keräämme palautetta webinaarin jälkeen aiheesta.\n \nTervetuloa mukaan!
LOCATION:
URL:http://ssl.eventilla.com/tiera-vire-ja-hyodyntaminen-hyvinvointiohjelmassa
END:VEVENT
END:VCALENDAR
