BEGIN:VCALENDAR
METHOD:PUBLISH
VERSION:2.0
PRODID:-//Eventilla iCal Syndication//NONSGML Liana//EN
BEGIN:VEVENT
UID:xd60N@eventilla.com
DTSTAMP:20210812T140000Z
DTSTART:20210812T140000Z
DTEND:20210812T150000Z
SUMMARY:Palestine Cultural Week: Palestinian Cuisine
DESCRIPTION:Palestinian cuisine is a distinct part of Palestinian culture\, having been influenced by civilizations and nations throughout history. Join us for a cooking demonstration on Instagram Live with Khwla Alomari\, who will show you how to make a speical dish of Musakhan. We welcome everyone\, including beginners and interested chefs\, and please feel free to browse our cooking ebooks. \nThe session will be conducted online via Instagram Live (QNL_engage).\nTo join\, click on the link below:\nhttps://www.instagram.com/qnl_engage/\nDate: 12 August 2021 \nTime: 5:00 – 6:00 PM \nLanguage: Arabic \nTarget Audience: General public \nThis is an open event; RSVP is not required
LOCATION:Online via Instagram Live (QNL_engage)
URL:http://events.qnl.qa/event/xd60N
END:VEVENT
END:VCALENDAR
