BEGIN:VCALENDAR
METHOD:PUBLISH
VERSION:2.0
PRODID:-//Eventilla iCal Syndication//NONSGML Liana//EN
BEGIN:VEVENT
UID:xdRaN@eventilla.com
DTSTAMP:20191130T090000Z
DTSTART:20191130T090000Z
DTEND:20191130T113000Z
SUMMARY:Piñata työpaja
DESCRIPTION:Varaa oma paikkasi Pinjata-työpajasta. Ilmoittautumisen yhteydessä voit samalla valita suosikki pinjata-mallisi.\nTyöpaja järjestetään kahdessa osassa\, 30.11 ja 7.12. klo: 11.00-13.30. Lipun hintaan kuuluu osallistuminen kahdelle päivälle\, materiaalit ja pääsy Kansallismuseoon. \nKurssi pidetään englanniksi. Aikuiset\, jotka tulevat alle 14-vuotiaan lapsen kanssa\, eivät tarvitse lippua. Osta vain lapselle lippu\, joka haluaa tehdä Pinjatan. 
LOCATION:Kansallismuseo\, Mannerheimintie 34\, 00100\, Helsinki\, Suomi
URL:http://ssl.eventilla.com/pinjatapaja
END:VEVENT
END:VCALENDAR
