BEGIN:VCALENDAR
METHOD:PUBLISH
VERSION:2.0
PRODID:-//Eventilla iCal Syndication//NONSGML Liana//EN
BEGIN:VEVENT
UID:xr4qy@eventilla.com
DTSTAMP:20130419T150000Z
DTSTART:20130419T150000Z
DTEND:20130421T120000Z
SUMMARY:"Genius loci"\, paikan henki
DESCRIPTION:Metsäsuomalaisen ympäristön sieluttamisesta modernin ihmisen moniselitteiseen ympäristön ymmärtämiseen. Ympäristömme ymmärtämistä\, havainnointia ja hahmottamista tutkitaan teoreettisesti ja käytäntöläheisesti sekä selvitetään kohdealueiden ominaisuuksia elämyksellisesti tallentaen.\nHinta\n65 eur\nOpettaja\nArkkitehti\, tekniikan tohtori Tapani Launis\nIlmoittautuminen\n5.4. mennessä\, lomakkeeseen pääsee tämän sivun alareunasta.\nOhjelma\npe 19.4. klo 18-20.15\nTutkitaan ympäristöä nykyisen tietämyksen ja tutkimuksen valossa. Käsitellään ympäristön havainnoinnin tieteenhistoriallisia perusteita: muinaisihmisen animistisesta ympäristön sieluttamisesta teollisen ajan modernin ihmisen ympäristön ymmärtämiseen. Lisäksi tutkitaan ympäristön merkityssisältöä\, suhdetta henkilökohtaiseen ja yhteisölliseen havainnointiin sekä etsitään ympäristön itsenäisiä ominaispiirteitä "genius locia".\nla 20.4. klo 9-16\nOsallistujat tekevät henkilökohtaisen arvioinnin joistakin valitun kohdealueen erityispiirteistä\, kaikkia viittä aistia hyödyntäen ja vielä "kuudeskin" mukaan lukien. Haetaan kunkin ympäristön vaikutustekijöiden ominaisuuksia\, erityispiirteitä ja niiden voimakkuutta. Kohdealueita tutkitaan "eläytyvästi" paikanpäällä.\nsu 21.4. kl0 9-15\nArvioidaan ja kirjataan kunkin osallistujan rekisteröimä materiaali. Kuvailutapa voi olla hyvin erilaista\, riippuen kohteesta. Ominaispiirteiden esittelytapa voi olla kuvallista ja kirjallista sekä viiden aistin havainnoinnin mukaisia tallenteita. Materiaali arvioidaan yhdessä ja se asetetaan esille näyttelyn muodossa. Materiaali kootaan ja säilytetään myös yhtenäisessä muodossa raportoituna.\nKurssin järjestävät Kriittinen korkeakoulu ja Otavan Opisto.\n 
LOCATION:Otavan Opiston Osuuskunta\, Annankatu 9 A 11\, 00120\, Helsinki
URL:http://ilmoittautuminen.otavanopisto.fi/event/xr4qy
END:VEVENT
END:VCALENDAR
