BEGIN:VCALENDAR
METHOD:PUBLISH
VERSION:2.0
PRODID:-//Eventilla iCal Syndication//NONSGML Liana//EN
BEGIN:VEVENT
UID:xrQAQ@eventilla.com
DTSTAMP:20210904T143000Z
DTSTART:20210904T143000Z
DTEND:20210910T143000Z
SUMMARY:Esitysehdotuksia kulttuuriperinnöstä
DESCRIPTION:Täältä voit varata lippuja Esitysehdotuksia kulttuuriperinnöstä -esitykseen. Liput lunastetaan ja maksetaan kuitenkin vasta tapahtumapäivänä Kansallismuseossa. \nEsityksen pääsymaksu on 14 euroa ja alennettu pääsymaksu 10 euroa. Alennettu hinta koskee kaikkia\, joilla on oikeus alennettuun pääsymaksuun Kansallismuseoon.\nEsityslipulla pääsee esityspäivänä veloituksetta Kansallismuseon näyttelyihin. Vaihto aiempaan tai myöhempään ajankohtaan ei ole mahdollista. 
LOCATION:Kansallismuseo\, Mannerheimintie 34\, 00100\, Helsinki\, Suomi
URL:http://ssl.eventilla.com/teak-esitys
END:VEVENT
END:VCALENDAR
