BEGIN:VCALENDAR
METHOD:PUBLISH
VERSION:2.0
PRODID:-//Eventilla iCal Syndication//NONSGML Liana//EN
BEGIN:VEVENT
UID:xrQga@eventilla.com
DTSTAMP:20210809T140000Z
DTSTART:20210809T140000Z
DTEND:20210809T150000Z
SUMMARY:Palestine Cultural Week: Journey to Al-Aqsa Mosque
DESCRIPTION:Al-Aqsa Mosque\, located inside the Old City of Al-Quds Al-Sharif in Palestine\, is one of the largest mosques in the world and one of the three most popular mosques. Join us in this event to learn about the boundaries and division of Al-Aqsa Mosque and its external and internal design\, including watching a video about this holy site.\nThe session will be held in Arabic with interpretation in English.\nThe event will be conducted online via Zoom.\nDate: 9 August 2021 \nTime: 5:00 – 6:00 PM \nLanguage: Arabic and English \nTarget Audience: General public  \nSeats are limited\, please click the button below to register.
LOCATION:Online via Zoom
URL:http://events.qnl.qa/event/xrQga
END:VEVENT
END:VCALENDAR
