BEGIN:VCALENDAR
METHOD:PUBLISH
VERSION:2.0
PRODID:-//Eventilla iCal Syndication//NONSGML Liana//EN
BEGIN:VEVENT
UID:xrqaV@eventilla.com
DTSTAMP:20200127T080000Z
DTSTART:20200127T080000Z
DTEND:20200128T110000Z
SUMMARY:"Toimitusjohtajan ja Pron yhteistyöllä tuloksia"- koulutus
DESCRIPTION:Tervetuloa Vierumäelle PGA:n\, SGK:n\, FGMA:n ja SGL:n yhteiseen koulutukseen 27. - 28.1.2020 jonka tarkoituksena on parantaa toimitusjohtajan ja pron yhteistyötä golfyhteisöissä. Ohjelma on pyritty pitämään tiiviinä ja päivien jälkeen jokaisella osallistujalla on omalle golfyhteisölle valmis prosessi oman toiminnan kehittämiseksi ja resurssien tehostamiseen.\nPaikka: Vierumäki Resort HotelTila: Helsinki\nOhjelma:\nMaanantai 27.1.202010:00 – 10:30 Koulutuksen esittely\, tavoitteet\, aikataulu ja osallistujien esittely10:30 – 11:15 Lajin ulkopuolinen puhuja (esim. Finavia) eri toimijoiden yhteistyön merkityksestä asiakaskokemukseen.11:15 – 12:00 Golfyhteisön toimiva johtoryhmä\, Antti Hiltunen FGMA & SGK- johtoryhmän kokoonpano ja toiminta12:00 – 13:00 Lounas13:00 – 13:30 Pelaaja ensin kyselyn tuloksia päivän teemaan liittyen\, Ari Koskilahti SGL13:30 – 15:00 Workshop I15:00 – 15:30 Kahvitauko15:30 – 17:00 Workshop II17:00 – 18:30 Omatoiminen liikunta19:00 Yhteinen illallinen\nTiistai 28.1.20209:00 – 12:00 Workshop tuotosten viimeistely ja esittely12:00 - 13.00 Lounas ja koulutuksen päättäminen\nJakelu: PGA jäsenet\, FGMA jäsenet
LOCATION:Vierumäki Resort Hotel\, Urheiluopistontie 400\, 19120\,
 Vierumäki\, Suomi
URL:http://ssl.eventilla.com/event/xrqaV
END:VEVENT
END:VCALENDAR
