BEGIN:VCALENDAR
METHOD:PUBLISH
VERSION:2.0
PRODID:-//Eventilla iCal Syndication//NONSGML Liana//EN
BEGIN:VEVENT
UID:y629p@eventilla.com
DTSTAMP:20260319T143000Z
DTSTART:20260319T143000Z
DTEND:20260319T183000Z
SUMMARY:Minna Canth -seminaari 19.3.2026
DESCRIPTION:KUTSU\n \nTervetuloa Minna Canth -seminaariintorstaina 19.3.2026 klo 16.30-20.30\, Kuopion Musiikkikeskukseen\nKolmatta kertaa Kuopiossa järjestettävän seminaarin ohjelma huipentuu historiallisiin hetkiin\, kun ensimmäinen uuden Minna Canth -palkinnon saaja julkistetaan ja kuulemme palkintopuheen. Ennen näitä syvennymme seminaarissa sananvapauden ja sananvastuun vakioteemojen ohella tulevaisuuteen. Kuulemme illan aikana asiantuntijapuheenvuoroja ja seuraamme paneelikeskustelua.\nMukana ovat esimerkiksi CMI:n varatoimitusjohtaja Hanna Klinge\, sometohtori Suvi Uski\, tulevaisuusasiantuntija Elina Kiiski-Kataja\, aivotutkija Eino Solje (videolla)\, Preemio ry:n hallituksen puheenjohtaja Pihla Sallinen ja taloustieteilijä Sixten Korkman. Äänessä ovat myös Minna Canth -palkintoraadin jäsen\, tasavallan presidentin puoliso ja Aalto-yliopiston johtava työelämäasiantuntija Suzanne Innes-Stubb (videolla) ja raadin puheenjohtaja\, kirjailija Sirpa Kähkönen. \nTilaisuuden juontamisesta vastaavat Savon Sanomien uutispäällikkö Iida Tiihonen sekä toimittajat Sanna Inkinen ja Jussi Kumpulainen.\nTapahtuman ilmoittautuminen on päättynyt.\n \nTervetuloa! \nMatti PietiläinenVastaava päätoimittajaSavon Sanomat
LOCATION:Kuopion Musiikkikeskus\, Kuopionlahdenkatu 23\, 70100\, Kuopio
URL:http://ssl.eventilla.com/mc-seminaari2026
END:VEVENT
END:VCALENDAR
