BEGIN:VCALENDAR
METHOD:PUBLISH
VERSION:2.0
PRODID:-//Eventilla iCal Syndication//NONSGML Liana//EN
BEGIN:VEVENT
UID:y62Q9@eventilla.com
DTSTAMP:20261126T220000Z
DTSTART:20261126T220000Z
DTEND:20261126T220000Z
SUMMARY:Valtakunnallinen Keuhkosyöpäpäivä lääkäreille\, näyttely 2026
DESCRIPTION:27.11.2026  Scandic Park\, Vision\nTarjoamme käyttöönne näyttelytilaa seuraavasti:\nNäyttelyn pöytäpaikan hinta on 2800 €.\nJokaista näyttelypaikkaa kohden voi yksi henkilö osallistua maksutta koulutustilaisuuteen. Lisähenkilöt maksavat 270 euroa.\nLaskutus tilaisuuden jälkeen.\n 
LOCATION:Scandic Park\, Mannerheimintie 46\, 00260\, Helsinki
URL:http://ssl.eventilla.com/event/y62Q9
END:VEVENT
END:VCALENDAR
