BEGIN:VCALENDAR
METHOD:PUBLISH
VERSION:2.0
PRODID:-//Eventilla iCal Syndication//NONSGML Liana//EN
BEGIN:VEVENT
UID:y6yzM@eventilla.com
DTSTAMP:20250514T130000Z
DTSTART:20250514T130000Z
DTEND:20250514T150000Z
SUMMARY:14.5.2025 TÄHTÄIMESSÄ KASVU- Puolustusteollisuuden verkostot ja viennin voima
DESCRIPTION:Forssan seudulla on vahvaa puolustusteollisuuden osaamista!\nYrittäjä\, jos olet miettinyt miten markkinoille pääsee ja mitä se vaatii\, niin tässä tapahtumassa ole juuri oikeassa paikassa.\nTervetuloa Forssan seudun puolustusteollisuuden verkostoitumistapahtumaan 14.5.2025 kello 16-18\, Koulukatu 13\, Forssan Yrityskehitys Oy.\nTapahtumassa puolustusteollisuudessa toimivien yrityksien edustajat jakavat kokemuksiaan ja osaamistaan tutkimus\, kehittämis- ja innovaatio toiminnan merkityksestä puolustusteollisuuden tuotekehityksessä.\nTapahtumassa tarjolla rahoitusneuvontaa tuotekehityksen tueksi.\nYrittäjä\, juuri sinun tuotteesi voi olla se\, jota markkinoilla jo odotetaan!\n 
LOCATION:FYK Business Park\, Koulukatu 13\, 30100\, Forssa\, Suomi
URL:http://ssl.eventilla.com/tahtaimessakasvu
END:VEVENT
END:VCALENDAR
