BEGIN:VCALENDAR
METHOD:PUBLISH
VERSION:2.0
PRODID:-//Eventilla iCal Syndication//NONSGML Liana//EN
BEGIN:VEVENT
UID:y76M3@eventilla.com
DTSTAMP:20261111T120000Z
DTSTART:20261111T120000Z
DTEND:20261111T131500Z
SUMMARY:Interstitiaalisista keuhkosairauksista lääkäreille
DESCRIPTION:Ohjelma:\n14:00 Koulutuksen avauspuheenvuoro\nAntti Saarinen\, LT\, keuhkosairauksien erikoislääkäri\, asiantuntijaylilääkäri\, Filha ry\n14:05 Sidekudostauteihin liittyvän interstitiaalisen keuhkosairauden ERS-ohjeet\nRiitta Kaarteenaho\, LT\, professori\, keuhkosairauksien ylilääkäri\, OYS\, Oulun yliopisto\n14:35 Keskustelua ja kysymyksiä\n14:40 ILD-hoidon haasteet\nAntti Saarinen\, LT\, keuhkosairauksien erikoislääkäri\, asiantuntijaylilääkäri\, Filha Ry\n15:10 Keskustelua ja kysymyksiä\n15:15 Koulutus päättyy\n \n \n \n \n14:35  \n                                                               \n \n \n 
LOCATION:Webinaari
URL:http://ssl.eventilla.com/event/y76M3
END:VEVENT
END:VCALENDAR
