BEGIN:VCALENDAR
METHOD:PUBLISH
VERSION:2.0
PRODID:-//Eventilla iCal Syndication//NONSGML Liana//EN
BEGIN:VEVENT
UID:y779w@eventilla.com
DTSTAMP:20260519T090000Z
DTSTART:20260519T090000Z
DTEND:20260519T140000Z
SUMMARY:Pieneläinten anestesia: Fysiologia ja laitevalvonta
DESCRIPTION:Pieneläinten anestesia -oppimispolun teoriawebinaarit ovat avoimia kaikille osallistujille!Jos olet jo mukana oppimispolulla\, sinun EI tarvitse ilmoittautua kuhunkin webinaariin erikseen.\nLisätiedot:\nKoulutussuunnittelija Outi Hälli\, outi.halli@fennovet.fi\, 0504005710.
LOCATION:Webinaari
URL:http://ssl.eventilla.com/event/y779w
END:VEVENT
END:VCALENDAR
