BEGIN:VCALENDAR
METHOD:PUBLISH
VERSION:2.0
PRODID:-//Eventilla iCal Syndication//NONSGML Liana//EN
BEGIN:VEVENT
UID:yWZDv@eventilla.com
DTSTAMP:20240903T060000Z
DTSTART:20240903T060000Z
DTEND:20240903T120000Z
SUMMARY:Älyllisen hyvä päivä
DESCRIPTION:Miltä kuulostaisi\, jos tulevaisuudessa tietokoneesi ei vain tottelisi käskyjäsi\, vaan myös ennakoisi tarpeitasi ja tarjoaisi niihin innovatiivisia ja inspiroivia ratkaisuja? Miten niin ”tulevaisuudessa”? Tämähän on mahdollista jo nyt! Tekoäly ei ole enää vain tieteiskirjallisuuden aihe\, vaan se on tulvahtanut arkeemme kuin kesäaurinko\, valmiina mullistamaan kaiken!\nTekoälyn kehitys on nopeaa ja kyyti voi tuntua tempoilevalta kuin rodeohevosen selässä. Jo pelkkä mukana pysyttely vaatii valppautta ja uskallusta\, eikä uusia käänteitä ole aina helppo ennustaa. Huomioon otettavia seikkoja on paljon kuin soittajia sinfoniaorkesterissa. Tarvitaan hyvät nuotit ja taitava kapellimestari\, jotta soitto olisi kaunista ja harmonista.\nPelkoon ei kuitenkaan ole aihetta\, eikä kaikkea tätä uutta tarvitse kohdata yksin ja heti. Kuntien taival tekoälykehityksen virrassa taittuu parhaiten vertaistuen avulla. Sekä omista että toisten kokemuksista - niin onnistumisista kuin kompuroinneista - voidaan oppia ja vahvistua. Jokainen askel\, pitkä tai lyhyt\, vie yhdessä toimivien joukkoa eteenpäin kohti aikaa\, jossa tekoäly ei ole pelkkä työkalu vaan arjen pelastaja. \nTiera auttaa kuntia tekoälymatkalla valmentaen\, kannustaen ja koordinoiden - tarvittaessa kuin kapellimestari tahtipuikkoa heiluttaen\, jotta kuntien tekoälysinfonia voisi kiiriä uljaasti\, menestyksekkäästi ja hyvinvointia luoden kautta koko Suomen. Autamme tunnistamaan tärkeät etapit\, valitsemaan turvalliset reitit eteenpäin\, kiertämään karikot sekä pysymään koko ajan tilanteen tasalla. *\nÄlyttömän Älyllisen hyvä päivä 3.9.2024 klo 10-15\nPäivän ohjelma:\n\n\n\n10:00 Päivän avaus\nMervi Airaksinen\, toimitusjohtaja\, Microsoft Oy\n\n\nKuntien välisen yhteistyön merkitys tekoälyn hyödyntämisestä\nJouni Jäkkö\, Tietohallintojohtaja\, Hämeenlinnan kaupunki\n\n\nMihin tekoäly meni? Kokemuksia Kirkkonummen opetuspalveluista\nAntti Sankala\, kehityspäällikkö\, Kirkkonummen sivistyspalvelutNinja Somersalmi\, suunnittelija\, Kirkkonummen opetuspalvelut\n\n\nTekoälyn vaikutus kuntien tietoturvaan\nPanelistit:– Jere Finne\, kuntasektorivastaava\, Kyberturvallisuuskeskus– Martti Setälä\, erityisasiantuntija\, Kuntaliitto– Sami Laiho\, Chief Research Officer\, Adminize Oy– Dr Nestori Syynimaa\, Principal Identity Security Researcher\, Microsoft MSTICPuheenjohtaja: Matti Turunen\, tietoturvajohtaja\, Kuntien Tiera Oy\n\n\n12-13 Lounas\n \n\n\nValmistautuminen Tulevaisuuteen: Porin Polku M365 Copilotin Käyttöönotossa\nTeemu Heino\, erityisasiantuntija\, Porin kaupunki\n\n\nLahden kokemukset henkilöstön kouluttamisesta\nMarkku Ukkonen\, kehittämisasiantuntija\, Lahden kaupunki\n\n\nUusimmat kuulumiset Microsoft M365 palveluista\nKalle Saarikannas\, Modern Workplace liiketoiminnanjohtaja\, Microsoft Oy\n\n\nÄlykäs kone mahdollistaa älyllisen hyvät työpäivät\nHarri Mikkanen\, Microsoft Surface liiketoimintajohtaja\, Microsoft Oy\n\n\nMiten tekoälyn mukanaan tuoma muutos pitäisi johtaa kunnissa\nKeskustelijat:– Tiia Häsä\, digijohtaja\, Siilinjärven kunta– Teemu Seppälä\, teknologia- ja innovaatiojohtaja\, Riihimäen kaupunki– Jani Setälä\, johdon asiantuntija\, Tiera Oy\n\n\nPäivän yhteenveto\nJani Setälä\, johdon asiantuntija\, Tiera Oy\n\n\n15-16 Iltapäiväkahvit\n \n\n\n\n \nLisäksi aamupäivällä klo 9-10 ja iltapäivällä klo 15 jälkeen on mahdollista verkostoitua osallistujien kesken sekä tutustua samalla esillä oleviin Microsoftin uusimpiin Copilotin käyttöä tukeviin laitteisiin. \nTapahtuma on maksuton. Tervetuloa mukaan!
LOCATION:Microsoft Keilaniemi\, Keilalahdentie 2-4\, 02150\, Espoo\, Suomi
URL:http://ssl.eventilla.com/alyllisen-hyva-paiva
END:VEVENT
END:VCALENDAR
