BEGIN:VCALENDAR
METHOD:PUBLISH
VERSION:2.0
PRODID:-//Eventilla iCal Syndication//NONSGML Liana//EN
BEGIN:VEVENT
UID:yWwLM@eventilla.com
DTSTAMP:20220929T111500Z
DTSTART:20220929T111500Z
DTEND:20220929T123000Z
SUMMARY:Miten tuberkuloosia voidaan torjua teollisuuden alan työpaikoilla?
DESCRIPTION:Webinaarin toteutus:\nMaksuton webinaari Teams-alustalla. Webinaarilinkki lähetetään ilmoittautuneille lähempänä ajankohtaa.\nKohderyhmät:\nTyönantajat teollisuuden aloilta ja muilta toimialoilta\, joissa on paljon ulkomaalaistaustaista työvoimaa\, työsuojelupäälliköt\, työsuojeluvaltuututetut\, työterveyshuollon lääkärit ja hoitajat\, terveysasemien lääkärit ja hoitajat\, erikoissairaanhoidon ja perusterveydenhuollon tartuntatautiyksikön vastaavat lääkärit ja hoitajat\n 
LOCATION:Webinaari
URL:http://ssl.eventilla.com/event/yWwLM
END:VEVENT
END:VCALENDAR
