BEGIN:VCALENDAR
METHOD:PUBLISH
VERSION:2.0
PRODID:-//Eventilla iCal Syndication//NONSGML Liana//EN
BEGIN:VEVENT
UID:yWzoX@eventilla.com
DTSTAMP:20221004T053000Z
DTSTART:20221004T053000Z
DTEND:20221004T130000Z
SUMMARY:Työsuojelupäällikön jatkokurssi - Webinaari
DESCRIPTION:Työsuojelupäällikön jatkokurssi opettaa työpaikan turvallisuusjohtamisen periaatteet sekä hyvän työsuojelun liiketoiminnalliset edut. Koulutuksessa käydään läpi myös työsuojelulainsäädännön viimeisimmät ja tulevat muutokset. Lisäksi koulutus opettaa mitkä ovat työsuojeluhenkilöiden vastuut yhteisellä työpaikalla sekä etä- ja mobiilityössä.\nKoulutuksen suorittaneille lähetetään sähköinen todistus osallistumisesta.\nKyseessä on etäkoulutus. Varmista ennen koulutusta\, että tietokoneessasi on toimiva kamera ja mikrofoni. Koulutukseen ei voi osallistua mobiililaitteella\, kuten älypuhelimella tai tabletilla.\nKoulutus tapahtuu Microsoft Teams-sovelluksessa. Sovellusta ei tarvitse ladata koneelle\, voit osallistua suoraan selaimessa. Saat tarkemmat ohjeet ilmoittautumisen yhteydessä.\nKurssin sisältö:\nTurvallisuusjohtaminen työpaikalla\n• Työpaikan turvallisuuskulttuuri• Työturvallisuusjohtamisen keskeiset elementit• Työturvallisuuden jatkuva parantaminen\nMittaaminen osana työturvallisuuden johtamista\n• Mittaamisen lähtökohtana organisaation strategia• Mittaamisen hyödyt työturvallisuusjohtamiselle• Reagoivat ja ennakoivat mittarit\nHyvän työsuojelun liiketoiminnalliset edut\n• Työsuojelu osana hyvää liiketoimintaa• Turvallisen työpaikan tuottavuus\nTyösuojelulainsäädännön muutokset ja päivitykset\n• Miten pysyä ajan tasalla lakimuutoksista• Viimeisimmät muutokset työsuojelun lainsäädännössä\nTyösuojelu yhteisellä työpaikalla\n• Toiminta yhteisellä työpaikalla• Työsuojeluvastuut yhteisellä työpaikalla\nTyöyhteisöviestintä\n• Toimiva työyhteisöviestintä• Työnantajan vastuu viestinnässä\nTyösuojelu etätyössä ja mobiilityössä\n• Etätyöstä sopiminen ja vinkkejä onnistumiseen• Mobiilin työn vaatimat kompetenssit• Eri toimijoiden tehtävät ja vastuut etä- ja mobiilityössä
LOCATION:Webinaari\, Suomi
URL:http://ssl.eventilla.com/event/yWzoX
END:VEVENT
END:VCALENDAR
