BEGIN:VCALENDAR
METHOD:PUBLISH
VERSION:2.0
PRODID:-//Eventilla iCal Syndication//NONSGML Liana//EN
BEGIN:VEVENT
UID:zA8E7@eventilla.com
DTSTAMP:20241013T151500Z
DTSTART:20241013T151500Z
DTEND:20241215T170000Z
SUMMARY:Vesiralli 2 (sunnuntai-ryhmä)
DESCRIPTION:Vesiralli 2 (sunnuntai-ryhmä)\nTavoite\nParantaa uimataitoa. Hauskuus. Uintiekniikoiden oppiminen. Uintitesti 8. kerralla. \nTaitovaatimus\nIkäsuositus: 8-vuotta. Tekniikka-uimakoulu käytynä. Vähintään 25 m sujuva uimataito. \nHarjoitteet\nEri uintilajien perustekniikat. Taitouintiliikkeitä. Vesipallon perusteet. Sukeltamista. Hyppyjä.\nOpetusallas: Iso allas (syvyys: 120cm - 230cm)Ryhmäkoko: 9 - 16 lasta\nHuomioitavaa\nSaat ilmoittautumisen yhteydessä sähköpostin vahvistuksena\, joka takaa että ilmoittautumisesi on tullut perille.\n 
LOCATION:Zimmari\, Pekurintie 1\, 90450\, Kempele
URL:http://ssl.eventilla.com/kempy-vr2-1815-1024-su
END:VEVENT
END:VCALENDAR
