BEGIN:VCALENDAR
METHOD:PUBLISH
VERSION:2.0
PRODID:-//Eventilla iCal Syndication//NONSGML Liana//EN
BEGIN:VEVENT
UID:zWalo@eventilla.com
DTSTAMP:20260925T124500Z
DTSTART:20260925T124500Z
DTEND:20260927T120000Z
SUMMARY:Koiran ja kissan hammashoito\, käytännön harjoitukset: Röntgenkuvien otto\, hammastarkastus\, puhdistus ja poistot
DESCRIPTION:Kohderyhmä:Tilaisuus on suunnattu eläinlääkäreille\, jotka ovat osallistuneet Suun ja hampaiden anatomia ja patologia\, hammaspotilaan perushoito -verkkokoulutukseen\, tai eläinlääkäreille\, jotka haluavat kerrata käymänsä Koiran ja kissan hammashoito: Käytännön perusteet -koulutuksen harjoitukset (koulutus ollut tällä nimellä vuoteen 2019 asti) tai käyneet jonkin muun vastaavan perusteet sisältävän hammaskoulutuksen.\nLisätiedot:Koulutussuunnittelija Kaisa Mikkonen\, kaisa.mikkonen@fennovet.fi\, 045 720 0462
LOCATION:EHYT-Areena\, Maorlantie 1\, 24800\, Halikko
URL:http://ssl.eventilla.com/event/zWalo
END:VEVENT
END:VCALENDAR
